BEGIN:VCALENDAR
VERSION:2.0
PRODID:-//SP Bezirk Bremgarten - ECPv6.15.17.1//NONSGML v1.0//EN
CALSCALE:GREGORIAN
METHOD:PUBLISH
X-ORIGINAL-URL:https://www.sp-bezirk-bremgarten.ch
X-WR-CALDESC:Veranstaltungen für SP Bezirk Bremgarten
REFRESH-INTERVAL;VALUE=DURATION:PT1H
X-Robots-Tag:noindex
X-PUBLISHED-TTL:PT1H
BEGIN:VTIMEZONE
TZID:Europe/Zurich
BEGIN:DAYLIGHT
TZOFFSETFROM:+0100
TZOFFSETTO:+0200
TZNAME:CEST
DTSTART:20220327T010000
END:DAYLIGHT
BEGIN:STANDARD
TZOFFSETFROM:+0200
TZOFFSETTO:+0100
TZNAME:CET
DTSTART:20221030T010000
END:STANDARD
BEGIN:DAYLIGHT
TZOFFSETFROM:+0100
TZOFFSETTO:+0200
TZNAME:CEST
DTSTART:20230326T010000
END:DAYLIGHT
BEGIN:STANDARD
TZOFFSETFROM:+0200
TZOFFSETTO:+0100
TZNAME:CET
DTSTART:20231029T010000
END:STANDARD
BEGIN:DAYLIGHT
TZOFFSETFROM:+0100
TZOFFSETTO:+0200
TZNAME:CEST
DTSTART:20240331T010000
END:DAYLIGHT
BEGIN:STANDARD
TZOFFSETFROM:+0200
TZOFFSETTO:+0100
TZNAME:CET
DTSTART:20241027T010000
END:STANDARD
BEGIN:DAYLIGHT
TZOFFSETFROM:+0100
TZOFFSETTO:+0200
TZNAME:CEST
DTSTART:20250330T010000
END:DAYLIGHT
BEGIN:STANDARD
TZOFFSETFROM:+0200
TZOFFSETTO:+0100
TZNAME:CET
DTSTART:20251026T010000
END:STANDARD
BEGIN:DAYLIGHT
TZOFFSETFROM:+0100
TZOFFSETTO:+0200
TZNAME:CEST
DTSTART:20260329T010000
END:DAYLIGHT
BEGIN:STANDARD
TZOFFSETFROM:+0200
TZOFFSETTO:+0100
TZNAME:CET
DTSTART:20261025T010000
END:STANDARD
BEGIN:DAYLIGHT
TZOFFSETFROM:+0100
TZOFFSETTO:+0200
TZNAME:CEST
DTSTART:20270328T010000
END:DAYLIGHT
BEGIN:STANDARD
TZOFFSETFROM:+0200
TZOFFSETTO:+0100
TZNAME:CET
DTSTART:20271031T010000
END:STANDARD
END:VTIMEZONE
BEGIN:VEVENT
DTSTART;TZID=Europe/Zurich:20260422T193000
DTEND;TZID=Europe/Zurich:20260422T220000
DTSTAMP:20260424T112811
CREATED:20260316T150037Z
LAST-MODIFIED:20260316T150042Z
UID:1206-1776886200-1776895200@www.sp-bezirk-bremgarten.ch
SUMMARY:Bezirksversammlung Frühling 2026
DESCRIPTION:Mit Input SP Fraktionspräsidentin Samira Marti \n\n\n\nAnschliessend Apéro
URL:https://www.sp-bezirk-bremgarten.ch/termine/bezirksversammlung-fruehling-2026/
LOCATION:Restaurant Stalden\, Friedlisbergstrasse 9\, Berikon\, Aargau\, 8965\, Switzerland
END:VEVENT
BEGIN:VEVENT
DTSTART;TZID=Europe/Zurich:20251127T193000
DTEND;TZID=Europe/Zurich:20251127T220000
DTSTAMP:20260424T112811
CREATED:20251025T135904Z
LAST-MODIFIED:20251025T135916Z
UID:1198-1764271800-1764280800@www.sp-bezirk-bremgarten.ch
SUMMARY:Bezirksversammlung
DESCRIPTION:Traktandenliste folgt.
URL:https://www.sp-bezirk-bremgarten.ch/termine/bezirksversammlung-2/
LOCATION:Restaurant Sternen\, Kirchrain 10\, Wohlen AG\, 5610\, Switzerland
END:VEVENT
BEGIN:VEVENT
DTSTART;TZID=Europe/Zurich:20250312T193000
DTEND;TZID=Europe/Zurich:20250312T223000
DTSTAMP:20260424T112811
CREATED:20250212T121009Z
LAST-MODIFIED:20250212T121012Z
UID:1190-1741807800-1741818600@www.sp-bezirk-bremgarten.ch
SUMMARY:Bezirksversammlung
DESCRIPTION:St. Josef-Stiftung\, Haus Allegra\, Seminarraum 7. Stock. \n\n\n\nBeginn: 19:30 \n\n\n\nTraktanden\n\n\n\nUm 19:30 beginnen wir mit einer Vorstellung der Anny-Klawa-Morf-Stiftung\, der Stiftung für Soziale Demokratie\, Freiheit\, Gerechtigkeit\, Gleichheit und Solidarität. Durch Simeon Marty\, Geschäftsführer der Stiftung. \n\n\n\nAb ca. 20:30 beginnen wir mit dem regulären Traktanden: \n\n\n\n\nBegrüssung\n\n\n\nVorstellung der Kandidaturen für das Präsidium der SP Aargau\n\n\n\nAbstimmung über die Steuergesetzvorlage\n\n\n\nRechnung Bezirkspartei und Grossratswahlen 2024\, Revisionsbericht\n\n\n\nVaria\n\nProjektgruppe Wahlen 27+28\n\n\n\n1. Mai\n\n\n\nSozi-Preis\n\n\n\nGeselliger Anlass am 12. Juni\n\n\n\n\n\n\nIm Anschluss Apéro und Getränke\, offeriert von der Bezirkspartei
URL:https://www.sp-bezirk-bremgarten.ch/termine/bezirksversammlung/
LOCATION:Aargau
END:VEVENT
BEGIN:VEVENT
DTSTART;TZID=Europe/Zurich:20240919T190000
DTEND;TZID=Europe/Zurich:20240919T220000
DTSTAMP:20260424T112811
CREATED:20240808T150651Z
LAST-MODIFIED:20240808T150654Z
UID:1130-1726772400-1726783200@www.sp-bezirk-bremgarten.ch
SUMMARY:Sozi-Preis
DESCRIPTION:Der Sozipreis findet am 19. September 2024\, 19.00 Uhr in der Kapuzinerkirche Bremgarten statt. Der Apéro anschliessend im Kreuzgang des Klosters.
URL:https://www.sp-bezirk-bremgarten.ch/termine/sozi-preis/
LOCATION:Kapuzinerkirche Bremgarten\, Luzernerstrasse 1\, Bremgarten\, Aargau\, 5620\, Switzerland
END:VEVENT
BEGIN:VEVENT
DTSTART;TZID=Europe/Zurich:20240911T193000
DTEND;TZID=Europe/Zurich:20240911T213000
DTSTAMP:20260424T112811
CREATED:20240808T151627Z
LAST-MODIFIED:20240818T161040Z
UID:1140-1726083000-1726090200@www.sp-bezirk-bremgarten.ch
SUMMARY:Krisenstimmung in der Gesundheitsversorgung: ist die Not eine Chance?
DESCRIPTION:Brigitte Weibel\, \n\n\n\nMitglied der Geschäftsleitung Gemeindeverband Regionale Alterszentren Bremgarten und Widen \n\n\n\nLeiterin Pflege und Hotellerie \n\n\n\nChristine Kaspar Frei\, \n\n\n\nSpitex Freiamt Geschäftsleitung\, diplomierte Pflegefachfrau FH\, Master of Advanced Studies in Management of Healthcare Institutions\, CAS Palliative Care
URL:https://www.sp-bezirk-bremgarten.ch/termine/unser-gesundheitssystem-probleme-und-loesungen-bremgarten/
LOCATION:Restaurant JoJo\, Badstrasse 4\, Bremgarten\, Aargau\, 5620\, Switzerland
ATTACH;FMTTYPE=image/png:https://www.sp-bezirk-bremgarten.ch/wp-content/uploads/2024/08/3.png
END:VEVENT
BEGIN:VEVENT
DTSTART;TZID=Europe/Zurich:20240904T193000
DTEND;TZID=Europe/Zurich:20240904T213000
DTSTAMP:20260424T112811
CREATED:20240808T151427Z
LAST-MODIFIED:20240818T161057Z
UID:1136-1725478200-1725485400@www.sp-bezirk-bremgarten.ch
SUMMARY:Krisenstimmung in der Gesundheitsversorgung: ist die Not eine Chance?
DESCRIPTION:In drei Veranstaltungen\, organisiert von unseren Grossratskandidat:innen werfen wir einen Blick auf die aktuelle Lage im Gesundheitswesen und was wir politisch erreichen wollen. \n\n\n\nLucia Engeli\, \n\n\n\nLeitende Ärztin am Zentrum für Innere Medizin als Leiterin des ärztlichen Teams des Notfall Zentrums der Hirslanden Klinik in Aarau\, Großrätin Kanton Aargau\, Mitglied der Kommission für Gesundheit und Sozialwesen des Großen Rats\, ehemalige Gemeinderätin
URL:https://www.sp-bezirk-bremgarten.ch/termine/unser-gesundheitssystem-probleme-und-loesungen-berikon/
LOCATION:Bürgisserhus\, Bahnhofstrasse 75\, Berikon\, Aargau\, 8965\, Switzerland
ATTACH;FMTTYPE=image/png:https://www.sp-bezirk-bremgarten.ch/wp-content/uploads/2024/08/2.png
END:VEVENT
BEGIN:VEVENT
DTSTART;TZID=Europe/Zurich:20240828T193000
DTEND;TZID=Europe/Zurich:20240828T213000
DTSTAMP:20260424T112811
CREATED:20240808T151049Z
LAST-MODIFIED:20240818T162105Z
UID:1134-1724873400-1724880600@www.sp-bezirk-bremgarten.ch
SUMMARY:Krisenstimmung in der Gesundheitsversorgung: ist die Not eine Chance?
DESCRIPTION:In drei Veranstaltungen\, organisiert von unseren Grossratskandidat:innen werfen wir einen Blick auf die aktuelle Lage im Gesundheitswesen und was wir politisch erreichen wollen. \n\n\n\nDaniel Bär\, \n\n\n\nMitbegründer und Geschäftsführer einer psychiatrischen Spitex\, Gerontologe und Berater im Bereich Langzeitpflege\, Diplomierter Fachmann Operationstechnik HF und Berufsbildner. \n\n\n\nKarin Healy-Gfeller\, \n\n\n\nDipl. Physiotherapeutin FH mit eigener Praxis in Wohlen\, Zuvor Physiotherapeutin im Kantonsspital Aarau und Hirslanden Aarau.
URL:https://www.sp-bezirk-bremgarten.ch/termine/unser-gesundheitssystem-probleme-und-loesungen-wohlen/
LOCATION:Chappelehof Wohlen\, Kapellstrasse 4\, Wohlen\, Aargau\, 5610\, Switzerland
ATTACH;FMTTYPE=image/png:https://www.sp-bezirk-bremgarten.ch/wp-content/uploads/2024/08/1.png
END:VEVENT
BEGIN:VEVENT
DTSTART;TZID=Europe/Zurich:20240824T160000
DTEND;TZID=Europe/Zurich:20240824T200000
DTSTAMP:20260424T112811
CREATED:20240808T151851Z
LAST-MODIFIED:20240808T151854Z
UID:1144-1724515200-1724529600@www.sp-bezirk-bremgarten.ch
SUMMARY:Fest der Solidarität
DESCRIPTION:Fest der Solidarität 2024
URL:https://www.sp-bezirk-bremgarten.ch/termine/fest-der-solidaritaet/
LOCATION:Aargau
END:VEVENT
BEGIN:VEVENT
DTSTART;TZID=Europe/Zurich:20240313T193000
DTEND;TZID=Europe/Zurich:20240313T220000
DTSTAMP:20260424T112811
CREATED:20231012T114913Z
LAST-MODIFIED:20231129T163434Z
UID:83-1710358200-1710367200@www.sp-bezirk-bremgarten.ch
SUMMARY:Bezirksversammlung Frühling 2024
DESCRIPTION:
URL:https://www.sp-bezirk-bremgarten.ch/termine/bezirksversammlung-fruehling-2024/
LOCATION:Aargau
ATTACH;FMTTYPE=image/png:https://www.sp-bezirk-bremgarten.ch/wp-content/uploads/2023/10/Titel-Logo.png
END:VEVENT
BEGIN:VEVENT
DTSTART;VALUE=DATE:20240217
DTEND;VALUE=DATE:20240218
DTSTAMP:20260424T112811
CREATED:20231012T114749Z
LAST-MODIFIED:20231012T114749Z
UID:81-1708128000-1708214399@www.sp-bezirk-bremgarten.ch
SUMMARY:Wanderung mit Dieter Egli
DESCRIPTION:
URL:https://www.sp-bezirk-bremgarten.ch/termine/wanderung-mit-dieter-egli/
LOCATION:Aargau
END:VEVENT
BEGIN:VEVENT
DTSTART;TZID=Europe/Zurich:20231129T193000
DTEND;TZID=Europe/Zurich:20231129T220000
DTSTAMP:20260424T112811
CREATED:20231012T114523Z
LAST-MODIFIED:20231129T163209Z
UID:77-1701286200-1701295200@www.sp-bezirk-bremgarten.ch
SUMMARY:Bezirksversammlung Herbst 2023
DESCRIPTION:Um 19:30 Besuch von Simona Brizzi\, Nationalrätin SP \n\n\n\n\nBegrüssung\n\n\n\nWahl der Stimmenzähler:innen\n\n\n\nProtokoll der letzten Versammlung\n\n\n\nAntrag Sektionsbeiträge & Budget 2024\n\n\n\nAnalyse und Rückblick Nationalratswahlen 2023\n\n\n\nKantonale Wahlen 2024: Ausblick und erste Schritte\n\n\n\n\nIm Anschluss gibt es einen kleinen Apéro mit Apérohäppchen\, als Dank von Stefan Dietrich für euren Einsatz im Wahlkampf.
URL:https://www.sp-bezirk-bremgarten.ch/termine/bezirksversammlung-herbst-2023/
LOCATION:Aargau
END:VEVENT
BEGIN:VEVENT
DTSTART;TZID=Europe/Zurich:20231026T180000
DTEND;TZID=Europe/Zurich:20231026T220000
DTSTAMP:20260424T112811
CREATED:20231012T114612Z
LAST-MODIFIED:20231012T114612Z
UID:79-1698343200-1698357600@www.sp-bezirk-bremgarten.ch
SUMMARY:Parteitag SP Aargau
DESCRIPTION:
URL:https://www.sp-bezirk-bremgarten.ch/termine/parteitag-sp-aargau/
LOCATION:Aargau
END:VEVENT
BEGIN:VEVENT
DTSTART;VALUE=DATE:20231022
DTEND;VALUE=DATE:20231023
DTSTAMP:20260424T112811
CREATED:20231012T114444Z
LAST-MODIFIED:20231012T114444Z
UID:75-1697932800-1698019199@www.sp-bezirk-bremgarten.ch
SUMMARY:Nationale Wahlen 2023
DESCRIPTION:
URL:https://www.sp-bezirk-bremgarten.ch/termine/nationale-wahlen-2023/
LOCATION:Aargau
END:VEVENT
END:VCALENDAR